BEGIN:VCALENDAR
VERSION:2.0
PRODID:icalendar-ruby
CALSCALE:GREGORIAN
METHOD:PUBLISH
BEGIN:VEVENT
DTSTAMP:20260421T120414Z
UID:84-364398@fpcdavenport.org
DTSTART:20260506T163000Z
DTEND:20260506T173000Z
CLASS:PUBLIC
CREATED:20260420T125018
DESCRIPTION:
LAST-MODIFIED:20260420T125018
LOCATION:Von Maur Hall & Sanctuary
SUMMARY:Musical Interludes w/ Alex Gilson
URL;VALUE=URI:https://www.fpcdavenport.org/events/musical-interludes-w-alex
 -gilson--84/2026-05-06
ATTACH;FILENAME=Musical_Interludes.png;FMTTYPE=image/png:https://dq5pwpg1q8
 ru0.cloudfront.net/2026/04/20/17/50/17/b2af1c57-2169-46bf-b9c4-192fc9b3e49
 a/Musical_Interludes.png
END:VEVENT
END:VCALENDAR
